BEGIN:VCALENDAR
VERSION:2.0
PRODID:-//Squarespace Inc/Squarespace 6//v6//EN
BEGIN:VEVENT
UID:5dc49b31a3c719745b7a6c6d@squarespace.com
DTSTAMP:20191107T224937Z
DTSTART:20191117T230000Z
DTEND:20191118T003000Z
SUMMARY:Guitars and Galleons
GEO:-36.914353;174.763128
LOCATION:Pah Homestead\, 72 Hillsborough Road\, Auckland\, Auckland\, 1042\
 , New Zealand
END:VEVENT
END:VCALENDAR
