BEGIN:VCALENDAR
VERSION:2.0
PRODID:-//Squarespace Inc/Squarespace 6//v6//EN
BEGIN:VEVENT
UID:5b6824aef950b7f2770dfad0@squarespace.com
DTSTAMP:20180806T105518Z
DTSTART:20180818T230000Z
DTEND:20180819T010000Z
SUMMARY:Rythmn Revolution Flamenco meets jazz . 
GEO:42.343353;-71.142645
LOCATION:Tasca Spanish Restaurant and Tapas Bar\, 25 Nuffield Street\, Auck
 land\, Auckland\, 1023\, New Zealand
END:VEVENT
END:VCALENDAR
