BEGIN:VCALENDAR
VERSION:2.0
PRODID:-//Squarespace Inc/Squarespace 6//v6//EN
BEGIN:VEVENT
UID:5b45d2781ae6cf4b5cafcf45@squarespace.com
DTSTAMP:20180806T073541Z
DTSTART:20180810T233000Z
DTEND:20180811T004000Z
SUMMARY:Ay Carmela
END:VEVENT
END:VCALENDAR
