BEGIN:VCALENDAR
VERSION:2.0
PRODID:-//Squarespace Inc/Squarespace 6//v6//EN
BEGIN:VEVENT
UID:5b678aed0e2e72aae8a75df7@squarespace.com
DTSTAMP:20180806T073726Z
DTSTART:20180811T193000Z
DTEND:20180811T204000Z
SUMMARY: Ay Carmela
END:VEVENT
END:VCALENDAR
