BEGIN:VCALENDAR
VERSION:2.0
PRODID:-//Squarespace Inc/Squarespace 6//v6//EN
BEGIN:VEVENT
UID:5b67aa666d2a73ce521dcd24@squarespace.com
DTSTAMP:20180806T073612Z
DTSTART:20180811T233000Z
DTEND:20180812T004000Z
SUMMARY:Ay Carmela
END:VEVENT
END:VCALENDAR
