BEGIN:VCALENDAR
VERSION:2.0
PRODID:-//Squarespace Inc/Squarespace 6//v6//EN
BEGIN:VEVENT
UID:5b46d1666d2a73a54f75f02c@squarespace.com
DTSTAMP:20180717T065911Z
DTSTART:20180718T220000Z
DTEND:20180718T230000Z
SUMMARY:New Zealanders in the Spanish Civil War
GEO:-36.858948;174.751774
LOCATION:Studio One\, 1 Ponsonby Road\, Auckland\, Auckland\, 1011\, New Ze
 aland
END:VEVENT
END:VCALENDAR
