BEGIN:VCALENDAR
VERSION:2.0
PRODID:-//Squarespace Inc/Squarespace 6//v6//EN
BEGIN:VEVENT
UID:5b4be674352f534ffb7ba0fa@squarespace.com
DTSTAMP:20180717T042142Z
DTSTART:20180716T123000Z
DTEND:20180813T013000Z
SUMMARY:The tv reporter who faces the music  in North and South out now
END:VEVENT
END:VCALENDAR
