BEGIN:VCALENDAR
VERSION:2.0
PRODID:-//Squarespace Inc/Squarespace 6//v6//EN
BEGIN:VEVENT
UID:5b45c76f88251bfe9f3c4dbe@squarespace.com
DTSTAMP:20180716T042123Z
DTSTART:20180901T003000Z
DTEND:20180901T013000Z
SUMMARY:Graham Brazier Album Release Vinyl Edition
END:VEVENT
END:VCALENDAR
