BEGIN:VCALENDAR
VERSION:2.0
PRODID:-//Squarespace Inc/Squarespace 6//v6//EN
BEGIN:VEVENT
UID:5b45d0c988251bfe9f3d3573@squarespace.com
DTSTAMP:20180714T233956Z
DTSTART:20180712T200000Z
DTEND:20180712T230000Z
SUMMARY:Flamenco Thursdays
GEO:-36.855652;174.746655
LOCATION:Cafe One2One\, 121 Ponsonby Road\, Auckland\, Auckland\, 1011\, Ne
 w Zealand
END:VEVENT
END:VCALENDAR
