BEGIN:VCALENDAR
VERSION:2.0
PRODID:-//Squarespace Inc/Squarespace 6//v6//EN
BEGIN:VEVENT
UID:5b496d65562fa75c96fdb873@squarespace.com
DTSTAMP:20180716T041807Z
DTSTART:20180719T200000Z
DTEND:20180719T230000Z
SUMMARY:Flamenco Thursdays
GEO:-36.855652;174.746655
LOCATION:Cafe One2One\, 121 Ponsonby Road\, Auckland\, Auckland\, 1011\, Ne
 w Zealand
END:VEVENT
END:VCALENDAR
