BEGIN:VCALENDAR
VERSION:2.0
PRODID:-//Squarespace Inc/Squarespace 6//v6//EN
BEGIN:VEVENT
UID:5b496d95f950b741b88ae5ad@squarespace.com
DTSTAMP:20181002T055119Z
DTSTART:20181004T230000Z
DTEND:20181005T020000Z
SUMMARY:Flamenco Thursdays
GEO:-36.855652;174.746655
LOCATION:Cafe One2One\, 121 Ponsonby Road\, Auckland\, Auckland\, 1011\, Ne
 w Zealand
END:VEVENT
END:VCALENDAR
