BEGIN:VCALENDAR
VERSION:2.0
PRODID:-//Squarespace Inc/Squarespace 6//v6//EN
BEGIN:VEVENT
UID:5bcfc0a3b208fcfabc302ce7@squarespace.com
DTSTAMP:20181024T065734Z
DTSTART:20181103T230000Z
DTEND:20181104T010000Z
SUMMARY:Flamenco  Live at Tasca Newmarket
GEO:-36.871342;174.777744
LOCATION:Tasca\, 25 Nuffield Street\, Auckland\, Auckland\, 1023\, New Zeal
 and
END:VEVENT
END:VCALENDAR
