BEGIN:VCALENDAR
VERSION:2.0
PRODID:-//Squarespace Inc/Squarespace 6//v6//EN
BEGIN:VEVENT
UID:5bb2fc33f9619a567ed07763@squarespace.com
DTSTAMP:20181002T052237Z
DTSTART:20181006T230000Z
DTEND:20181007T010000Z
SUMMARY:Live at Cafe Tasca 
GEO:-36.871342;174.777744
LOCATION:Cafe Tasca\, 25 Nuffield Street\, Auckland\, Auckland\, New Zealan
 d
END:VEVENT
END:VCALENDAR
